Workbook

Sheet Offene Treffs
A7: Kostenkalkulation
A8: Träger:
A9: Straße:
A10: Postleitzahl Ort:
A11: SEPA-Daten (Name und IBAN):
A12: Ansprechperson:
A13: Telefon:
A15: Kosten für Fachkräfte/Honorarkräfte:
A16: Hinweis: Nach den Vorgaben des Dokuments vom 21.01.2025 (Abrechnung von Personalkosten bei der Durchführung von Stärke-Angeboten)
A17: Anzahl der Stunden: | C17: Stundenlohn: | D17: Mittelwert der Fachleistungsstunden für: | H17: Summe:
B18: x | C18: =IF(A18="",0,VLOOKUP(D18,Dropdown!$A$1:$B$12,2,0)) -> 0 | D18: bitte auswählen | G18: = | H18: =A18*C18 -> 0
A20: Anzahl der Stunden: | C20: Stundenlohn: | D20: Mittelwert der Fachleistungsstunden für: | H20: Summe:
B21: x | C21: =IF(A21="",0,VLOOKUP(D21,Dropdown!$A$1:$B$12,2,0)) -> 0 | D21: bitte auswählen | G21: = | H21: =A21*C21 -> 0
A23: Anzahl der Stunden: | C23: Stundenlohn: | D23: Mittelwert der Fachleistungsstunden für: | H23: Summe:
B24: x | C24: =IF(A24="",0,VLOOKUP(D24,Dropdown!$A$1:$B$12,2,0)) -> 0 | D24: bitte auswählen | G24: = | H24: =A24*C24 -> 0
A26: Sonstiges (z.B. Hebamme, Jurist, Künstler) Orientierung am TvöD
A27: Anzahl der Stunden: | C27: Stundenlohn: | D27: Mittelwert der Fachleistungsstunden für: | H27: Summe:
B28: x | C28: 0 | G28: = | H28: =A28*C28 -> 0
A29: Sachkosten:
A30: Honorare: | H30: =SUM(H18,H21,H24,H28) -> 0
A31: Kinderbetreuung:
A32: Raummiete:
A33: Verpflegungskosten:
A34: Material:
A35: Werbung:
A36: Sonstiges (bitte benennen):
A37: Summe der geplanten Sachkosten + Personalkosten: | H37: =SUM(H30:H36) -> 0
A38: Davon können 80% beantragt werden. | D38: =H37*0.8 -> 0 | F38: Es können beantragt werden: | H38: =D38 -> 0
A41: Bitte alle blau hinterlegten Felder ausfüllen!

Sheet Kurse
A7: ='Offene Treffs'!A7 -> Kostenkalkulation
A8: ='Offene Treffs'!A8 -> Träger: | C8: =IF('Offene Treffs'!D8<>"",'Offene Treffs'!D8,"")
A9: ='Offene Treffs'!A9 -> Straße: | C9: =IF('Offene Treffs'!D9<>"",'Offene Treffs'!D9,"")
A10: ='Offene Treffs'!A10 -> Postleitzahl Ort: | C10: =IF('Offene Treffs'!D10<>"",'Offene Treffs'!D10,"")
A11: ='Offene Treffs'!A11 -> SEPA-Daten (Name und IBAN): | C11: =IF('Offene Treffs'!D11<>"",'Offene Treffs'!D11,"")
A12: ='Offene Treffs'!A12 -> Ansprechperson: | C12: =IF('Offene Treffs'!D12<>"",'Offene Treffs'!D12,"")
A13: ='Offene Treffs'!A13 -> Telefon: | C13: =IF('Offene Treffs'!D13<>"",'Offene Treffs'!D13,"")
A16: Kosten für Fachkräfte/Honorarkräfte:
A17: Hinweis: Nach den Vorgaben des Dokuments vom 21.01.2025 (Abrechnung von Personalkosten bei der Durchführung von Stärke-Angeboten)
A18: Anzahl der Stunden: | C18: Stundenlohn: | D18: Mittelwert der Fachleistungsstunden für: | H18: Summe:
B19: x | C19: =IF(A19="",0,VLOOKUP(D19,Dropdown!$A$1:$B$12,2,0)) -> 0 | D19: bitte auswählen | G19: = | H19: =A19*C19 -> 0
A21: Anzahl der Stunden: | C21: Stundenlohn: | D21: Mittelwert der Fachleistungsstunden für: | H21: Summe:
B22: x | C22: =IF(A22="",0,VLOOKUP(D22,Dropdown!$A$1:$B$12,2,0)) -> 0 | D22: bitte auswählen | G22: = | H22: =A22*C22 -> 0
A24: Anzahl der Stunden: | C24: Stundenlohn: | D24: Mittelwert der Fachleistungsstunden für: | H24: Summe:
B25: x | C25: =IF(A25="",0,VLOOKUP(D25,Dropdown!$A$1:$B$12,2,0)) -> 0 | D25: bitte auswählen | G25: = | H25: =A25*C25 -> 0
A27: Sonstiges (z.B. Hebamme, Jurist, Künstler) Orientierung am TvöD
A28: Anzahl der Stunden: | C28: Stundenlohn: | D28: Mittelwert der Fachleistungsstunden für: | H28: Summe:
B29: x | C29: 0 | G29: = | H29: =A29*C29 -> 0
A31: Sachkosten:
A32: Honorare: | H32: =SUM(H19,H22,H25,H29) -> 0
A33: Kinderbetreuung:
A34: Raummiete:
A35: Verpflegungskosten:
A36: Material:
A37: Werbung:
A38: Sonstiges (bitte benennen):
A39: Summe der geplanten Sachkosten: | B39: =SUM(H32:H38) -> 0
A40: Anzahl der Teilnehmer:
F42: max. 500 € | H42: =B39/B40 -> #DIV/0!
A45: Bitte alle blau hinterlegten Felder ausfüllen!

Sheet Freizeit ohne Ü
A7: =Kurse!A7 -> Kostenkalkulation
A8: =Kurse!A8 -> Träger: | B8: =IF('Offene Treffs'!C8<>"",'Offene Treffs'!C8,"")
A9: =Kurse!A9 -> Straße: | B9: =IF('Offene Treffs'!C9<>"",'Offene Treffs'!C9,"")
A10: =Kurse!A10 -> Postleitzahl Ort: | B10: =IF('Offene Treffs'!C10<>"",'Offene Treffs'!C10,"")
A11: =Kurse!A11 -> SEPA-Daten (Name und IBAN): | B11: =IF('Offene Treffs'!C11<>"",'Offene Treffs'!C11,"")
A12: =Kurse!A12 -> Ansprechperson: | B12: =IF('Offene Treffs'!C12<>"",'Offene Treffs'!C12,"")
A13: =Kurse!A13 -> Telefon: | B13: =IF('Offene Treffs'!C13<>"",'Offene Treffs'!C13,"")
A15: Für die Familienbildungsfreizeit:
B16: (Name und Ort der Freizeit)
A18: Zeitraum in dem die Freizeit stattfindet:
B19: (Datum vom - bis)
A21: Anzahl zusammenhängender Tage:
A23: Anzahl der Familien für die eine Erstattung der notwendigen Ausgaben beantragt wird
B24: (Anzahl der Familien)
A25: Kosten für Fachkräfte/Honorarkräfte:
A26: Hinweis: Nach den Vorgaben des Dokuments vom 21.01.2025 (Abrechnung von Personalkosten bei der Durchführung von Stärke-Angeboten)
A27: Anzahl der Stunden: | C27: Stundenlohn: | D27: Mittelwert der Fachleistungsstunden für: | H27: Summe:
B28: x | C28: 0 | D28: bitte auswählen | G28: = | H28: =A28*C28 -> 0
A30: Anzahl der Stunden: | C30: Stundenlohn: | D30: Mittelwert der Fachleistungsstunden für: | H30: Summe:
B31: x | C31: =IF(A31="",0,VLOOKUP(D31,Dropdown!$A$1:$B$12,2,0)) -> 0 | D31: bitte auswählen | G31: = | H31: =A31*C31 -> 0
A33: Anzahl der Stunden: | C33: Stundenlohn: | D33: Mittelwert der Fachleistungsstunden für: | H33: Summe:
B34: x | C34: =IF(A34="",0,VLOOKUP(D34,Dropdown!$A$1:$B$12,2,0)) -> 0 | D34: bitte auswählen | G34: = | H34: =A34*C34 -> 0
A36: Sonstiges (z.B. Hebamme, Jurist, Künstler) Orientierung am TvöD
A37: Anzahl der Stunden: | C37: Stundenlohn: | D37: Mittelwert der Fachleistungsstunden für: | H37: Summe:
B38: x | C38: 0 | G38: = | H38: =A38*C38 -> 0
A40: Sachkosten:
A41: Honorarakosten: | H41: =SUM(H28,H31,H34,H38) -> 0
A42: Kinderbetreuung:
A43: Fahrtkosten:
A44: Verpflegung:
A45: Material:
A46: Eintrittsgelder:
A47: Sonstiges (bitte benennen):
G48: Summe | H48: =ROUNDUP(SUM(H41:H47),2) -> 0
A50: Höhe der Ausgaben pro Tag: (maximal 150 € pro Tag/Familie) | B50: =H48/B23/B21 -> #DIV/0!
A52: Der Erstattungsbetrag beläuft sich somit auf | B52: =IF(B21*B23*B50>G52,"Betrag zu hoch!",B21*B23*B50) -> #DIV/0! | G52: =B21*B23*150 -> 0
A55: Bitte alle blau hinterlegten Felder ausfüllen!

Sheet Freizeit mit Ü
A7: Kostenkalkulation
A8: =Kurse!A8 -> Träger: | C8: =IF('Offene Treffs'!C8<>"",'Offene Treffs'!C8,"")
A9: =Kurse!A9 -> Straße: | C9: =IF('Offene Treffs'!C9<>"",'Offene Treffs'!C9,"")
A10: =Kurse!A10 -> Postleitzahl Ort: | C10: =IF('Offene Treffs'!C10<>"",'Offene Treffs'!C10,"")
A11: =Kurse!A11 -> SEPA-Daten (Name und IBAN): | C11: =IF('Offene Treffs'!C11<>"",'Offene Treffs'!C11,"")
A12: =Kurse!A12 -> Ansprechperson: | C12: =IF('Offene Treffs'!C12<>"",'Offene Treffs'!C12,"")
A13: =Kurse!A13 -> Telefon: | C13: =IF('Offene Treffs'!C13<>"",'Offene Treffs'!C13,"")
A15: Für die Familienbildungsfreizeit in:
C16: (Name und Ort der Einrichtung)
A18: Zeitraum in dem die Freizeit stattfindet/stattfand:
C19: (Datum vom - bis)
A21: Anzahl der Übernachtungen:
A23: Anzahl der Familien für die eine Erstattung der notwendigen Ausgaben beantragt wird
C24: (Anzahl der Familien)
A27: Weitere Erstattungen notwendiger Ausgaben für die Unterbringung von Familien mit mehr als zwei Kindern sind
C28: (Anzahl zusätzlicher Kinder)
A29: Höhe der Ausgaben (maximal 250 € pro zusätzliches Kind) | H29: =C27*C29 -> 0
A32: Weitere Erstattungen notwendiger Ausgaben für die Unterbringung der Dozierenden und Betreuenden
C33: (Anzahl dozierender und betreuender Personen)
A35: Höhe der Ausgaben (maximal 500 € pro Person) | H35: =C32*C35 -> 0
A38: Weitere Erstattungen der Fahrtkosten
C39: (Anzahl der Haushalte)
A41: Höhe der Ausgaben (maximal 250 € pro Haushalt) | H41: =C38*C41 -> 0
A44: Kosten für Fachkräfte/Honorarkräfte:
A45: Hinweis: Nach den Vorgaben des Dokuments vom 21.01.2025 (Abrechnung von Personalkosten bei der Durchführung von Stärke-Angeboten)
A46: Anzahl der Stunden: | C46: Stundenlohn: | D46: Mittelwert der Fachleistungsstunden für: | H46: Summe:
B47: x | C47: =IF(A47="",0,VLOOKUP(D47,Dropdown!$A$1:$B$12,2,0)) -> 0 | D47: bitte auswählen | G47: = | H47: =A47*C47 -> 0
A49: Anzahl der Stunden: | C49: Stundenlohn: | D49: Mittelwert der Fachleistungsstunden für: | H49: Summe:
B50: x | C50: =IF(A50="",0,VLOOKUP(D50,Dropdown!$A$1:$B$12,2,0)) -> 0 | D50: bitte auswählen | G50: = | H50: =A50*C50 -> 0
A52: Anzahl der Stunden: | C52: Stundenlohn: | D52: Mittelwert der Fachleistungsstunden für: | H52: Summe:
B53: x | C53: =IF(A53="",0,VLOOKUP(D53,Dropdown!$A$1:$B$12,2,0)) -> 0 | D53: bitte auswählen | G53: = | H53: =A53*C53 -> 0
A55: Sonstiges (z.B. Hebamme, Jurist, Künstler) Orientierung am TvöD
A56: Anzahl der Stunden: | C56: Stundenlohn: | D56: Mittelwert der Fachleistungsstunden für: | H56: Summe:
B57: x | C57: 0 | G57: = | H57: =A57*C57 -> 0
A58: Sachkosten:
A59: Honorarkosten: | C59: =H47+H50+H53+H57 -> 0
A60: Kinderbetreuung:
A61: Unterkunft und Verpflegung
A62: Fahrtkosten:
A63: Summe: | C63: =SUM(C59:G62)+C27*C29+C32*C35+C38*C41 -> 0
...

Sheet Dropdown
A1: bitte auswählen | B1: 0
A2: Dipl. Sozialpädagogen, Bachelor/Master Sozialpädagogik, Dipl. Heilpädagogen, Bachelor/Master Heilpädagogik (oder vergleichbarer Bildungsabschluss) | B2: 69.49
A3: Erzieher/Jugend- u. Heimerzieher (oder vergleichbarer Bildungsabschluss) | B3: 63.61
A4: Heilerziehungspfleger (oder vergleichbarer Bildungsabschluss) | B4: 63.61
A5: Arzt (Facharzt f. Psychiatrie) | B5: 91.35
A6: Dipl. Psychologe, Bachelor/Master Psychologie | B6: 83.78
A7: Psychotherapeut (Kinder u. Jugendliche), Mitarbeiter des Fachdienst (Sozpäd. mit Zusatzqualifikation) (oder vergleichbarer Bildungsabschluss) | B7: 89.28
A8: Sozialpädagogen (oder vergleichbarer Bildungsabschluss) mit einer wissenschaftlich anerkannten therapeutischen Zusatzausbildung | B8: 71.97
A9: Heilpädagoge Fachschule (oder vergleichbarer Bildungsabschluss) | B9: 64.69
A10: Logopäde (oder vergleichbarer Bildungsabschluss) | B10: 53.88
A11: Lehrer (oder vergleichbarer Bildungsabschluss) | B11: 74.54
A12: Ergotherapeuten (oder vergleichbarer Bildungsabschluss) | B12: 59.53
